BEGIN:VCALENDAR
VERSION:2.0
PRODID:-//The Sparrow Collaborative - ECPv6.15.1.1//NONSGML v1.0//EN
CALSCALE:GREGORIAN
METHOD:PUBLISH
X-ORIGINAL-URL:https://thesparrowcollaborative.org
X-WR-CALDESC:Events for The Sparrow Collaborative
REFRESH-INTERVAL;VALUE=DURATION:PT1H
X-Robots-Tag:noindex
X-PUBLISHED-TTL:PT1H
BEGIN:VTIMEZONE
TZID:America/New_York
BEGIN:DAYLIGHT
TZOFFSETFROM:-0500
TZOFFSETTO:-0400
TZNAME:EDT
DTSTART:20250309T070000
END:DAYLIGHT
BEGIN:STANDARD
TZOFFSETFROM:-0400
TZOFFSETTO:-0500
TZNAME:EST
DTSTART:20251102T060000
END:STANDARD
END:VTIMEZONE
BEGIN:VEVENT
DTSTART;TZID=America/New_York:20250401T180000
DTEND;TZID=America/New_York:20250401T200000
DTSTAMP:20260423T150226
CREATED:20250205T174431Z
LAST-MODIFIED:20250205T174431Z
UID:923-1743530400-1743537600@thesparrowcollaborative.org
SUMMARY:Classes Begins
DESCRIPTION:First day of class.
URL:https://thesparrowcollaborative.org/event/classes-begins/
ORGANIZER;CN="Eric Plaza":MAILTO:eplaza@thesparrowcollaborative.org
END:VEVENT
BEGIN:VEVENT
DTSTART;TZID=America/New_York:20250329T100000
DTEND;TZID=America/New_York:20250329T120000
DTSTAMP:20260423T150226
CREATED:20250205T174255Z
LAST-MODIFIED:20250205T174255Z
UID:919-1743242400-1743249600@thesparrowcollaborative.org
SUMMARY:Meet and Greet
DESCRIPTION:Join The Sparrow Collaborative Team for our meet-and-greet. During this time\, we will have introductions\, review the schedule and agenda\, and address any questions or concerns.
URL:https://thesparrowcollaborative.org/event/meet-and-greet/
LOCATION:TBD
ORGANIZER;CN="Eric Plaza":MAILTO:eplaza@thesparrowcollaborative.org
END:VEVENT
BEGIN:VEVENT
DTSTART;VALUE=DATE:20250315
DTEND;VALUE=DATE:20250329
DTSTAMP:20260423T150226
CREATED:20250205T173202Z
LAST-MODIFIED:20250205T173202Z
UID:915-1741996800-1743206399@thesparrowcollaborative.org
SUMMARY:Registration Period
DESCRIPTION:The Sparrow Collaborative Team appreciates your interest in participating in the informative workshops. The registration period is from March 15th to 28th.
URL:https://thesparrowcollaborative.org/event/registration-period/
ORGANIZER;CN="Eric Plaza":MAILTO:eplaza@thesparrowcollaborative.org
END:VEVENT
END:VCALENDAR